BEGIN:VCALENDAR
VERSION:2.0
PRODID:-//The Range of Richfield - ECPv6.15.20//NONSGML v1.0//EN
CALSCALE:GREGORIAN
METHOD:PUBLISH
X-WR-CALNAME:The Range of Richfield
X-ORIGINAL-URL:https://therangewi.com
X-WR-CALDESC:Events for The Range of Richfield
REFRESH-INTERVAL;VALUE=DURATION:PT1H
X-Robots-Tag:noindex
X-PUBLISHED-TTL:PT1H
BEGIN:VTIMEZONE
TZID:America/Chicago
BEGIN:DAYLIGHT
TZOFFSETFROM:-0600
TZOFFSETTO:-0500
TZNAME:CDT
DTSTART:20240310T080000
END:DAYLIGHT
BEGIN:STANDARD
TZOFFSETFROM:-0500
TZOFFSETTO:-0600
TZNAME:CST
DTSTART:20241103T070000
END:STANDARD
BEGIN:DAYLIGHT
TZOFFSETFROM:-0600
TZOFFSETTO:-0500
TZNAME:CDT
DTSTART:20250309T080000
END:DAYLIGHT
BEGIN:STANDARD
TZOFFSETFROM:-0500
TZOFFSETTO:-0600
TZNAME:CST
DTSTART:20251102T070000
END:STANDARD
BEGIN:DAYLIGHT
TZOFFSETFROM:-0600
TZOFFSETTO:-0500
TZNAME:CDT
DTSTART:20260308T080000
END:DAYLIGHT
BEGIN:STANDARD
TZOFFSETFROM:-0500
TZOFFSETTO:-0600
TZNAME:CST
DTSTART:20261101T070000
END:STANDARD
END:VTIMEZONE
BEGIN:VEVENT
DTSTART;TZID=America/Chicago:20250513T100000
DTEND;TZID=America/Chicago:20250513T200000
DTSTAMP:20260421T083241
CREATED:20250428T193101Z
LAST-MODIFIED:20250428T193148Z
UID:19569-1747130400-1747166400@therangewi.com
SUMMARY:Free Target Tuesday
DESCRIPTION:Shoot on Tuesdays and ﻿receive a FREE TARGET
URL:https://therangewi.com/https-therangewi-com-event/free-target-tuesday-copy/
END:VEVENT
BEGIN:VEVENT
DTSTART;TZID=America/Chicago:20250513T100000
DTEND;TZID=America/Chicago:20250513T190000
DTSTAMP:20260421T083241
CREATED:20250429T172247Z
LAST-MODIFIED:20250429T172250Z
UID:19607-1747130400-1747162800@therangewi.com
SUMMARY:Summer Bullseye League Starts Today
DESCRIPTION:May 13th – August 26th(Shoot anytime we are open Tuesdays through Fridays) \n\n\n\nTry out precision pistol / bullseye!! New shooters are welcome!! \n\n\n\nNeed a challenge? Grab that .22 or centerfire pistol out of the safe and join a laid-back league to keep your skills up or improve them. Shooters can shoot rimfire\, centerfire or both. This league there are no set days to shoot. Come in anytime we are open Tuesday through Friday\, grab your 3 targets and shoot them.
URL:https://therangewi.com/https-therangewi-com-event/summer-bullseye-league-starts-today/
END:VEVENT
BEGIN:VEVENT
DTSTART;TZID=America/Chicago:20250511T110000
DTEND;TZID=America/Chicago:20250511T160000
DTSTAMP:20260421T083241
CREATED:20250429T172942Z
LAST-MODIFIED:20250429T172945Z
UID:19611-1746961200-1746979200@therangewi.com
SUMMARY:Mom Shoots Free
DESCRIPTION:Happy Mother’s Day!  Mom shoots free plus receives a free target!
URL:https://therangewi.com/https-therangewi-com-event/mom-shoots-free/
END:VEVENT
BEGIN:VEVENT
DTSTART;TZID=America/Chicago:20250510T120000
DTEND;TZID=America/Chicago:20250510T160000
DTSTAMP:20260421T083241
CREATED:20250429T175619Z
LAST-MODIFIED:20250429T175729Z
UID:19624-1746878400-1746892800@therangewi.com
SUMMARY:Wisconsin Concealed Carry License
DESCRIPTION:
URL:https://therangewi.com/https-therangewi-com-event/wisconsin-concealed-carry-license-class-3-copy-copy-copy-copy/
END:VEVENT
BEGIN:VEVENT
DTSTART;TZID=America/Chicago:20250507T180000
DTEND;TZID=America/Chicago:20250507T193000
DTSTAMP:20260421T083241
CREATED:20250429T175036Z
LAST-MODIFIED:20250429T175039Z
UID:19620-1746640800-1746646200@therangewi.com
SUMMARY:First Shots Class
DESCRIPTION:This is course intended for individuals who have never fired a handgun but are interested in learning. The event will be taught by experienced and certified instructors. This is NOT a complete firearms training class. Class is available to students 12 and older. Age 12-18 must be accompanied by parent or guardian*.Do not bring your firearm\, guns are provided. This is not a class to go over your gun but an introduction to shooting and safety. \n\n\n\nClassroom portion includes: \n\n\n\nFirearm SafetyShooting Range Rules and EtiquetteBasic Operation of a Semi-Automatic HandgunMarksmanship Fundamentals:Proper GripStanceSight Alignment and Sight PictureTrigger Control and Follow ThroughMaster Eye ExerciseRange Time: \n\n\n\nHands on Action and Operation of a HandgunDry-FiringLive-Firing*Due to government restrictions on renting handguns & buying handgun ammo \n\n\n\nCost: $30* \n\n\n\nClass Size: 20 \n\n\n\nInstructors: Matt Luedke & Peter Gourlie \n\n\n\n*Complete an NSSF online survey after your class to receive a $25 range reward voucher!
URL:https://therangewi.com/https-therangewi-com-event/first-shots-class/
END:VEVENT
BEGIN:VEVENT
DTSTART;TZID=America/Chicago:20250503T100000
DTEND;TZID=America/Chicago:20250503T160000
DTSTAMP:20260421T083241
CREATED:20250429T172645Z
LAST-MODIFIED:20250429T172650Z
UID:19609-1746266400-1746288000@therangewi.com
SUMMARY:Meet & Greet with Eli Jahns
DESCRIPTION:The Range of Richfield is pleased to announce that Full Send Gunsmithing will be located in The Range of Richfield starting on May 1\, 2025 \n\n\n\nPlease join us for a Meet & Greet to get to know Eli and welcome him!.
URL:https://therangewi.com/https-therangewi-com-event/meet-greet-with-eli-jahns/
END:VEVENT
BEGIN:VEVENT
DTSTART;TZID=America/Chicago:20250503T080000
DTEND;TZID=America/Chicago:20250504T120000
DTSTAMP:20260421T083241
CREATED:20250429T174328Z
LAST-MODIFIED:20250429T174332Z
UID:19616-1746259200-1746360000@therangewi.com
SUMMARY:NRA Basic Pistol Course
DESCRIPTION:The NRA Basic Pistol Course is the best way for you to learn the basics of pistol shooting and is your next step of training after receiving your Concealed Carry license. Whether your goal is personal protection\, sport shooting or hobby shooting\, this course will give you the solid foundation you need to move forward with confidence.This course is 8 hours of training with 6 hours of classroom and 2 hours of supervised range time. \n\n\n\nTOPICS INCLUDE: \n\n\n\nRules for safe gun handling\, pistol parts and operation and ammunitionShooting fundamentals\, bench and two-handed standing positionsBoth home and range-based training drills for improving shootingCleaning of pistolsSuggestions for skill development \n\n\n\nTuition: $200 \n\n\n\nInstructor: Jeff Pharris \n\n\n\nClass Size: 12
URL:https://therangewi.com/https-therangewi-com-event/nra-basic-pistol-course-2/
END:VEVENT
BEGIN:VEVENT
DTSTART;TZID=America/Chicago:20250421T000000
DTEND;TZID=America/Chicago:20250421T235959
DTSTAMP:20260421T083241
CREATED:20250328T182131Z
LAST-MODIFIED:20250328T182214Z
UID:19477-1745193600-1745279999@therangewi.com
SUMMARY:Closed Mondays
DESCRIPTION:HOURS: \n\n\n\nMonday: Closed \n\n\n\nTues-Thurs: 10am-8pm \n\n\n\nFri: 10am-5pm \n\n\n\nSat: 9:30am-5pm (shooting @10am) \n\n\n\nSun: 10:30am-4pm (shooting @11am
URL:https://therangewi.com/https-therangewi-com-event/closed-mondays-15-copy-copy-copy-copy-copy-copy-copy-copy-copy-copy-copy/
END:VEVENT
END:VCALENDAR